BEGIN:VCALENDAR
VERSION:2.0
PRODID:EVENTFROG//EVENTGROUP//ICAL
BEGIN:VEVENT
UID:20260426T035253Z-7441255949002626181@eventfrog.de
DTSTAMP:20260426T035253Z
DTSTART:20260517T090000Z
SUMMARY:La beauté de l’âne
DESCRIPTION:La beauté de l'âne\n\nhttps://eventfrog.de/de/p/freizeit-ausfluege/la-beaute-de-lane-7441255949002626181.html
LOCATION:Kino Cameo
GEO:47.494450;8.718060
URL:https://eventfrog.de/de/p/freizeit-ausfluege/la-beaute-de-lane-7441255949002626181.html
END:VEVENT
BEGIN:VEVENT
UID:20260426T035253Z-7441255949178786950@eventfrog.de
DTSTAMP:20260426T035253Z
DTSTART:20260521T160000Z
SUMMARY:La beauté de l’âne
DESCRIPTION:La beauté de l'âne\n\nhttps://eventfrog.de/de/p/freizeit-ausfluege/la-beaute-de-lane-7441255949178786950.html
LOCATION:Kino Cameo
GEO:47.494450;8.718060
URL:https://eventfrog.de/de/p/freizeit-ausfluege/la-beaute-de-lane-7441255949178786950.html
END:VEVENT
BEGIN:VEVENT
UID:20260426T035253Z-7441255949342364807@eventfrog.de
DTSTAMP:20260426T035253Z
DTSTART:20260528T160000Z
SUMMARY:La beauté de l’âne
DESCRIPTION:La beauté de l'âne\n\nhttps://eventfrog.de/de/p/freizeit-ausfluege/la-beaute-de-lane-7441255949342364807.html
LOCATION:Kino Cameo
GEO:47.494450;8.718060
URL:https://eventfrog.de/de/p/freizeit-ausfluege/la-beaute-de-lane-7441255949342364807.html
END:VEVENT
END:VCALENDAR