BEGIN:VCALENDAR
VERSION:2.0
PRODID:EVENTFROG//EVENTGROUP//ICAL
BEGIN:VEVENT
UID:20260425T175039Z-7452982345827630527@eventfrog.de
DTSTAMP:20260425T175039Z
DTSTART:20260426T090000Z
DTEND:20260426T150000Z
SUMMARY:Traum in Tüten Trödel 9.0
DESCRIPTION:Der Trödel ist eine Eventreihe von Traum in Tüten für die Community. Die Boutique wird an diesem Tag komplett umgeräumt und die Neuware wird durch die je 5 Lieblingsteile der Kundinnen ersetzt. \n\nhttps://eventfrog.de/de/p/maerkte/flohmarkt/traum-in-tueten-troedel-9-0-7452982345827630527.html
LOCATION:Traum in Tüten
GEO:51.436800;7.007722
URL:https://eventfrog.de/de/p/maerkte/flohmarkt/traum-in-tueten-troedel-9-0-7452982345827630527.html
END:VEVENT
BEGIN:VEVENT
UID:20260425T175039Z-7452982730080417395@eventfrog.de
DTSTAMP:20260425T175039Z
DTSTART:20261108T100000Z
DTEND:20261108T160000Z
SUMMARY:Traum in Tüten Trödel 9.0
DESCRIPTION:Der Trödel ist eine Eventreihe von Traum in Tüten für die Community. Die Boutique wird an diesem Tag komplett umgeräumt und die Neuware wird durch die je 5 Lieblingsteile der Kundinnen ersetzt. \n\nhttps://eventfrog.de/de/p/maerkte/flohmarkt/traum-in-tueten-troedel-9-0-7452982730080417395.html
LOCATION:Traum in Tüten
GEO:51.436800;7.007722
URL:https://eventfrog.de/de/p/maerkte/flohmarkt/traum-in-tueten-troedel-9-0-7452982730080417395.html
END:VEVENT
BEGIN:VEVENT
UID:20260425T175039Z-7452982730176886912@eventfrog.de
DTSTAMP:20260425T175039Z
DTSTART:20270403T220000Z
SUMMARY:Traum in Tüten Trödel 9.0
DESCRIPTION:Der Trödel ist eine Eventreihe von Traum in Tüten für die Community. Die Boutique wird an diesem Tag komplett umgeräumt und die Neuware wird durch die je 5 Lieblingsteile der Kundinnen ersetzt. \n\nhttps://eventfrog.de/de/p/maerkte/flohmarkt/traum-in-tueten-troedel-9-0-7452982730176886912.html
LOCATION:Traum in Tüten
GEO:51.436800;7.007722
URL:https://eventfrog.de/de/p/maerkte/flohmarkt/traum-in-tueten-troedel-9-0-7452982730176886912.html
END:VEVENT
BEGIN:VEVENT
UID:20260425T175039Z-7452982730256578764@eventfrog.de
DTSTAMP:20260425T175039Z
DTSTART:20270418T090000Z
DTEND:20270418T150000Z
SUMMARY:Traum in Tüten Trödel 9.0
DESCRIPTION:Der Trödel ist eine Eventreihe von Traum in Tüten für die Community. Die Boutique wird an diesem Tag komplett umgeräumt und die Neuware wird durch die je 5 Lieblingsteile der Kundinnen ersetzt. \n\nhttps://eventfrog.de/de/p/maerkte/flohmarkt/traum-in-tueten-troedel-9-0-7452982730256578764.html
LOCATION:Traum in Tüten
GEO:51.436800;7.007722
URL:https://eventfrog.de/de/p/maerkte/flohmarkt/traum-in-tueten-troedel-9-0-7452982730256578764.html
END:VEVENT
END:VCALENDAR