BEGIN:VCALENDAR
VERSION:2.0
PRODID:EVENTFROG//EVENTGROUP//ICAL
BEGIN:VEVENT
UID:20260424T065546Z-7453045372878866505@eventfrog.de
DTSTAMP:20260424T065546Z
DTSTART:20260601T120000Z
DTEND:20260601T150000Z
SUMMARY:KI-Entdeckungsreise für ältere Einsteigerinnen und Einsteige
DESCRIPTION:Künstliche Intelligenz im Alltag und im Alter bewusst, sicher und gekonnt einsetzen\n\nhttps://eventfrog.de/de/p/kurse-seminare/computer-edv/ki-entdeckungsreise-fuer-aeltere-einsteigerinnen-und-einsteige-7453045372878866505.html
LOCATION:OST Ostschweizer Fachhochschule, Campus St.Gallen
GEO:47.423285;9.367650
URL:https://eventfrog.de/de/p/kurse-seminare/computer-edv/ki-entdeckungsreise-fuer-aeltere-einsteigerinnen-und-einsteige-7453045372878866505.html
END:VEVENT
BEGIN:VEVENT
UID:20260424T065546Z-7453046298381444849@eventfrog.de
DTSTAMP:20260424T065546Z
DTSTART:20260608T120000Z
DTEND:20260608T150000Z
SUMMARY:KI-Entdeckungsreise für ältere Einsteigerinnen und Einsteige
DESCRIPTION:Künstliche Intelligenz im Alltag und im Alter bewusst, sicher und gekonnt einsetzen\n\nhttps://eventfrog.de/de/p/kurse-seminare/computer-edv/ki-entdeckungsreise-fuer-aeltere-einsteigerinnen-und-einsteige-7453046298381444849.html
LOCATION:OST Ostschweizer Fachhochschule, Campus St.Gallen
GEO:47.423285;9.367650
URL:https://eventfrog.de/de/p/kurse-seminare/computer-edv/ki-entdeckungsreise-fuer-aeltere-einsteigerinnen-und-einsteige-7453046298381444849.html
END:VEVENT
BEGIN:VEVENT
UID:20260424T065546Z-7453046298465330930@eventfrog.de
DTSTAMP:20260424T065546Z
DTSTART:20260615T120000Z
DTEND:20260615T150000Z
SUMMARY:KI-Entdeckungsreise für ältere Einsteigerinnen und Einsteige
DESCRIPTION:Künstliche Intelligenz im Alltag und im Alter bewusst, sicher und gekonnt einsetzen\n\nhttps://eventfrog.de/de/p/kurse-seminare/computer-edv/ki-entdeckungsreise-fuer-aeltere-einsteigerinnen-und-einsteige-7453046298465330930.html
LOCATION:OST Ostschweizer Fachhochschule, Campus St.Gallen
GEO:47.423285;9.367650
URL:https://eventfrog.de/de/p/kurse-seminare/computer-edv/ki-entdeckungsreise-fuer-aeltere-einsteigerinnen-und-einsteige-7453046298465330930.html
END:VEVENT
BEGIN:VEVENT
UID:20260424T065546Z-7453046298528245492@eventfrog.de
DTSTAMP:20260424T065546Z
DTSTART:20260622T120000Z
DTEND:20260622T150000Z
SUMMARY:KI-Entdeckungsreise für ältere Einsteigerinnen und Einsteige
DESCRIPTION:Künstliche Intelligenz im Alltag und im Alter bewusst, sicher und gekonnt einsetzen\n\nhttps://eventfrog.de/de/p/kurse-seminare/computer-edv/ki-entdeckungsreise-fuer-aeltere-einsteigerinnen-und-einsteige-7453046298528245492.html
LOCATION:OST Ostschweizer Fachhochschule, Campus St.Gallen
GEO:47.423285;9.367650
URL:https://eventfrog.de/de/p/kurse-seminare/computer-edv/ki-entdeckungsreise-fuer-aeltere-einsteigerinnen-und-einsteige-7453046298528245492.html
END:VEVENT
END:VCALENDAR