BEGIN:VCALENDAR
VERSION:2.0
PRODID:EVENTFROG//EVENTGROUP//ICAL
BEGIN:VEVENT
UID:20260424T215725Z-7450833931643928567@eventfrog.de
DTSTAMP:20260424T215725Z
DTSTART:20260514T180000Z
DTEND:20260514T200000Z
SUMMARY:Moderne Talking - Comedy Night
DESCRIPTION:Bei der Comedy Night sorgen 8-10 Comedians für beste Unterhaltung. Start 20 Uhr, Türöffnung 19 Uhr, Eintritt gratis (Kollekte).\n\nhttps://eventfrog.de/de/p/theater-buehne/comedy-kabarett/moderne-talking-comedy-night-7450833931643928567.html
LOCATION:Moderne Bar & Karussell
GEO:47.048440;8.306079
URL:https://eventfrog.de/de/p/theater-buehne/comedy-kabarett/moderne-talking-comedy-night-7450833931643928567.html
END:VEVENT
BEGIN:VEVENT
UID:20260424T215725Z-7453065805636319317@eventfrog.de
DTSTAMP:20260424T215725Z
DTSTART:20260514T180000Z
DTEND:20260514T200000Z
SUMMARY:Moderne Talking (Comedy Night)
DESCRIPTION:Bei Moderne Talking sorgen 8-10 Comedians ab 20:00 Uhr für einen unterhaltsamen Comedy-Abend, Türöffnung um 19:00 Uhr.\n\nhttps://eventfrog.de/de/p/theater-buehne/comedy-kabarett/moderne-talking-comedy-night-7453065805636319317.html
LOCATION:Moderne Bar & Karussell
GEO:47.048440;8.306079
URL:https://eventfrog.de/de/p/theater-buehne/comedy-kabarett/moderne-talking-comedy-night-7453065805636319317.html
END:VEVENT
BEGIN:VEVENT
UID:20260424T215725Z-7453065832735718982@eventfrog.de
DTSTAMP:20260424T215725Z
DTSTART:20260604T180000Z
DTEND:20260604T200000Z
SUMMARY:Moderne Talking (Comedy Night)
DESCRIPTION:Bei Moderne Talking sorgen 8-10 Comedians ab 20:00 Uhr für einen unterhaltsamen Comedy-Abend, Türöffnung um 19:00 Uhr.\n\nhttps://eventfrog.de/de/p/theater-buehne/comedy-kabarett/moderne-talking-comedy-night-7453065832735718982.html
LOCATION:Moderne Bar & Karussell
GEO:47.048440;8.306079
URL:https://eventfrog.de/de/p/theater-buehne/comedy-kabarett/moderne-talking-comedy-night-7453065832735718982.html
END:VEVENT
BEGIN:VEVENT
UID:20260424T215725Z-7453065832991572152@eventfrog.de
DTSTAMP:20260424T215725Z
DTSTART:20260917T180000Z
DTEND:20260917T200000Z
SUMMARY:Moderne Talking (Comedy Night)
DESCRIPTION:Bei Moderne Talking sorgen 8-10 Comedians ab 20:00 Uhr für einen unterhaltsamen Comedy-Abend, Türöffnung um 19:00 Uhr.\n\nhttps://eventfrog.de/de/p/theater-buehne/comedy-kabarett/moderne-talking-comedy-night-7453065832991572152.html
LOCATION:Moderne Bar & Karussell
GEO:47.048440;8.306079
URL:https://eventfrog.de/de/p/theater-buehne/comedy-kabarett/moderne-talking-comedy-night-7453065832991572152.html
END:VEVENT
BEGIN:VEVENT
UID:20260424T215725Z-7453065833113207030@eventfrog.de
DTSTAMP:20260424T215725Z
DTSTART:20261015T180000Z
DTEND:20261015T200000Z
SUMMARY:Moderne Talking (Comedy Night)
DESCRIPTION:Bei Moderne Talking sorgen 8-10 Comedians ab 20:00 Uhr für einen unterhaltsamen Comedy-Abend, Türöffnung um 19:00 Uhr.\n\nhttps://eventfrog.de/de/p/theater-buehne/comedy-kabarett/moderne-talking-comedy-night-7453065833113207030.html
LOCATION:Moderne Bar & Karussell
GEO:47.048440;8.306079
URL:https://eventfrog.de/de/p/theater-buehne/comedy-kabarett/moderne-talking-comedy-night-7453065833113207030.html
END:VEVENT
BEGIN:VEVENT
UID:20260424T215725Z-7453065833239036178@eventfrog.de
DTSTAMP:20260424T215725Z
DTSTART:20261119T190000Z
DTEND:20261119T210000Z
SUMMARY:Moderne Talking (Comedy Night)
DESCRIPTION:Bei Moderne Talking sorgen 8-10 Comedians ab 20:00 Uhr für einen unterhaltsamen Comedy-Abend, Türöffnung um 19:00 Uhr.\n\nhttps://eventfrog.de/de/p/theater-buehne/comedy-kabarett/moderne-talking-comedy-night-7453065833239036178.html
LOCATION:Moderne Bar & Karussell
GEO:47.048440;8.306079
URL:https://eventfrog.de/de/p/theater-buehne/comedy-kabarett/moderne-talking-comedy-night-7453065833239036178.html
END:VEVENT
BEGIN:VEVENT
UID:20260424T215725Z-7453065833415196951@eventfrog.de
DTSTAMP:20260424T215725Z
DTSTART:20261217T190000Z
DTEND:20261217T210000Z
SUMMARY:Moderne Talking (Comedy Night)
DESCRIPTION:Bei Moderne Talking sorgen 8-10 Comedians ab 20:00 Uhr für einen unterhaltsamen Comedy-Abend, Türöffnung um 19:00 Uhr.\n\nhttps://eventfrog.de/de/p/theater-buehne/comedy-kabarett/moderne-talking-comedy-night-7453065833415196951.html
LOCATION:Moderne Bar & Karussell
GEO:47.048440;8.306079
URL:https://eventfrog.de/de/p/theater-buehne/comedy-kabarett/moderne-talking-comedy-night-7453065833415196951.html
END:VEVENT
BEGIN:VEVENT
UID:20260424T215725Z-7453065833595552025@eventfrog.de
DTSTAMP:20260424T215725Z
DTSTART:20270121T190000Z
DTEND:20270121T210000Z
SUMMARY:Moderne Talking (Comedy Night)
DESCRIPTION:Bei Moderne Talking sorgen 8-10 Comedians ab 20:00 Uhr für einen unterhaltsamen Comedy-Abend, Türöffnung um 19:00 Uhr.\n\nhttps://eventfrog.de/de/p/theater-buehne/comedy-kabarett/moderne-talking-comedy-night-7453065833595552025.html
LOCATION:Moderne Bar & Karussell
GEO:47.048440;8.306079
URL:https://eventfrog.de/de/p/theater-buehne/comedy-kabarett/moderne-talking-comedy-night-7453065833595552025.html
END:VEVENT
BEGIN:VEVENT
UID:20260424T215725Z-7453065833775907175@eventfrog.de
DTSTAMP:20260424T215725Z
DTSTART:20270218T190000Z
DTEND:20270218T210000Z
SUMMARY:Moderne Talking (Comedy Night)
DESCRIPTION:Bei Moderne Talking sorgen 8-10 Comedians ab 20:00 Uhr für einen unterhaltsamen Comedy-Abend, Türöffnung um 19:00 Uhr.\n\nhttps://eventfrog.de/de/p/theater-buehne/comedy-kabarett/moderne-talking-comedy-night-7453065833775907175.html
LOCATION:Moderne Bar & Karussell
GEO:47.048440;8.306079
URL:https://eventfrog.de/de/p/theater-buehne/comedy-kabarett/moderne-talking-comedy-night-7453065833775907175.html
END:VEVENT
BEGIN:VEVENT
UID:20260424T215725Z-7453065833905930606@eventfrog.de
DTSTAMP:20260424T215725Z
DTSTART:20270318T190000Z
DTEND:20270318T210000Z
SUMMARY:Moderne Talking (Comedy Night)
DESCRIPTION:Bei Moderne Talking sorgen 8-10 Comedians ab 20:00 Uhr für einen unterhaltsamen Comedy-Abend, Türöffnung um 19:00 Uhr.\n\nhttps://eventfrog.de/de/p/theater-buehne/comedy-kabarett/moderne-talking-comedy-night-7453065833905930606.html
LOCATION:Moderne Bar & Karussell
GEO:47.048440;8.306079
URL:https://eventfrog.de/de/p/theater-buehne/comedy-kabarett/moderne-talking-comedy-night-7453065833905930606.html
END:VEVENT
BEGIN:VEVENT
UID:20260424T215725Z-7453065834031759729@eventfrog.de
DTSTAMP:20260424T215725Z
DTSTART:20270415T180000Z
DTEND:20270415T200000Z
SUMMARY:Moderne Talking (Comedy Night)
DESCRIPTION:Bei Moderne Talking sorgen 8-10 Comedians ab 20:00 Uhr für einen unterhaltsamen Comedy-Abend, Türöffnung um 19:00 Uhr.\n\nhttps://eventfrog.de/de/p/theater-buehne/comedy-kabarett/moderne-talking-comedy-night-7453065834031759729.html
LOCATION:Moderne Bar & Karussell
GEO:47.048440;8.306079
URL:https://eventfrog.de/de/p/theater-buehne/comedy-kabarett/moderne-talking-comedy-night-7453065834031759729.html
END:VEVENT
BEGIN:VEVENT
UID:20260424T215725Z-7453071932289750130@eventfrog.de
DTSTAMP:20260424T215725Z
DTSTART:20270520T180000Z
DTEND:20270520T200000Z
SUMMARY:Moderne Talking (COMEDY NIGHT)
DESCRIPTION:Bei Moderne Talking treten 8-10 Comedians auf, Start 20 Uhr, moderiert von Sladi, Eintritt gratis, ohne Reservation.\n\nhttps://eventfrog.de/de/p/theater-buehne/comedy-kabarett/moderne-talking-comedy-night-7453071932289750130.html
LOCATION:Moderne Bar & Karussell
GEO:47.048440;8.306079
URL:https://eventfrog.de/de/p/theater-buehne/comedy-kabarett/moderne-talking-comedy-night-7453071932289750130.html
END:VEVENT
END:VCALENDAR