BEGIN:VCALENDAR
VERSION:2.0
PRODID:EVENTFROG//EVENTGROUP//ICAL
BEGIN:VEVENT
UID:20260426T033458Z-7453138978406980895@eventfrog.de
DTSTAMP:20260426T033458Z
DTSTART:20260501T181500Z
DTEND:20260501T204500Z
SUMMARY:Gina de LAmore präsentiert: "Männerfang"
DESCRIPTION:Gina de LAmore liefert in ihrer Show Livegesang und herzhafte Stand up Comedy über die Herausforderungen der Männersuche. Begleiten Sie Gina, lachen Sie Tränen und lassen Sie den Alltag hinter sich!\n\nhttps://eventfrog.de/de/p/theater-buehne/comedy-kabarett/gina-de-lamore-praesentiert-maennerfang-7453138978406980895.html
LOCATION:Senftöpfchen Theater
GEO:50.939800;6.960082
URL:https://eventfrog.de/de/p/theater-buehne/comedy-kabarett/gina-de-lamore-praesentiert-maennerfang-7453138978406980895.html
END:VEVENT
BEGIN:VEVENT
UID:20260426T033458Z-7453139490476950362@eventfrog.de
DTSTAMP:20260426T033458Z
DTSTART:20260502T181500Z
DTEND:20260502T204500Z
SUMMARY:Gina de LAmore präsentiert: "Männerfang"
DESCRIPTION:Gina de LAmore liefert in ihrer Show Livegesang und herzhafte Stand up Comedy über die Herausforderungen der Männersuche. Begleiten Sie Gina, lachen Sie Tränen und lassen Sie den Alltag hinter sich!\n\nhttps://eventfrog.de/de/p/theater-buehne/comedy-kabarett/gina-de-lamore-praesentiert-maennerfang-7453139490476950362.html
LOCATION:Senftöpfchen Theater
GEO:50.939800;6.960082
URL:https://eventfrog.de/de/p/theater-buehne/comedy-kabarett/gina-de-lamore-praesentiert-maennerfang-7453139490476950362.html
END:VEVENT
END:VCALENDAR