BEGIN:VCALENDAR
VERSION:2.0
PRODID:EVENTFROG//EVENTGROUP//ICAL
BEGIN:VEVENT
UID:20260424T224757Z-7453362316895077203@eventfrog.de
DTSTAMP:20260424T224757Z
DTSTART:20260509T080000Z
DTEND:20260509T160000Z
SUMMARY:Frühlingsfest
DESCRIPTION:Diverse Foodtrucks mit Smash-Burger, Köfte, Fischbrötli, Panzerotti und mehr ab 11 Uhr\nKinderprogramm mit Hüpfparcours, Kinderschminken und Frisuren von 14–17 Uhr\nSonntagsverkauf von 10–17 Uhr\n\nhttps://eventfrog.de/de/p/kinderveranstaltungen/familienveranstaltungen/fruehlingsfest-7453362316895077203.html
LOCATION:Discounterpark Parkallee Bachenbülach
GEO:47.504473;8.542032
URL:https://eventfrog.de/de/p/kinderveranstaltungen/familienveranstaltungen/fruehlingsfest-7453362316895077203.html
END:VEVENT
BEGIN:VEVENT
UID:20260424T224757Z-7453362393676013398@eventfrog.de
DTSTAMP:20260424T224757Z
DTSTART:20260510T080000Z
DTEND:20260510T150000Z
SUMMARY:Frühlingsfest
DESCRIPTION:Diverse Foodtrucks mit Smash-Burger, Köfte, Fischbrötli, Panzerotti und mehr ab 11 Uhr\nKinderprogramm mit Hüpfparcours, Kinderschminken und Frisuren von 14–17 Uhr\nSonntagsverkauf von 10–17 Uhr\n\nhttps://eventfrog.de/de/p/kinderveranstaltungen/familienveranstaltungen/fruehlingsfest-7453362393676013398.html
LOCATION:Discounterpark Parkallee Bachenbülach
GEO:47.504473;8.542032
URL:https://eventfrog.de/de/p/kinderveranstaltungen/familienveranstaltungen/fruehlingsfest-7453362393676013398.html
END:VEVENT
END:VCALENDAR