BEGIN:VCALENDAR
VERSION:2.0
PRODID:EVENTFROG//EVENTGROUP//ICAL
BEGIN:VEVENT
UID:20260424T223942Z-7453371421244306067@eventfrog.de
DTSTAMP:20260424T223942Z
DTSTART:20261019T120000Z
DTEND:20261019T150000Z
SUMMARY:KI-Entdeckungsreise für ältere Einsteiger:innen
DESCRIPTION:Künstliche Intelligenz im Alltag und im Alter bewusst, sicher und gekonnt einsetzen\n\nhttps://eventfrog.de/de/p/kurse-seminare/sonstige-kurse-seminare/ki-entdeckungsreise-fuer-aeltere-einsteiger-innen-7453371421244306067.html
LOCATION:OST Ostschweizer Fachhochschule, Campus Rapperswil
GEO:47.224264;8.817033
URL:https://eventfrog.de/de/p/kurse-seminare/sonstige-kurse-seminare/ki-entdeckungsreise-fuer-aeltere-einsteiger-innen-7453371421244306067.html
END:VEVENT
BEGIN:VEVENT
UID:20260424T223942Z-7453371421965727002@eventfrog.de
DTSTAMP:20260424T223942Z
DTSTART:20261026T130000Z
DTEND:20261026T160000Z
SUMMARY:KI-Entdeckungsreise für ältere Einsteiger:innen
DESCRIPTION:Künstliche Intelligenz im Alltag und im Alter bewusst, sicher und gekonnt einsetzen\n\nhttps://eventfrog.de/de/p/kurse-seminare/sonstige-kurse-seminare/ki-entdeckungsreise-fuer-aeltere-einsteiger-innen-7453371421965727002.html
LOCATION:OST Ostschweizer Fachhochschule, Campus Rapperswil
GEO:47.224264;8.817033
URL:https://eventfrog.de/de/p/kurse-seminare/sonstige-kurse-seminare/ki-entdeckungsreise-fuer-aeltere-einsteiger-innen-7453371421965727002.html
END:VEVENT
BEGIN:VEVENT
UID:20260424T223942Z-7453371422091556166@eventfrog.de
DTSTAMP:20260424T223942Z
DTSTART:20261102T130000Z
DTEND:20261102T160000Z
SUMMARY:KI-Entdeckungsreise für ältere Einsteiger:innen
DESCRIPTION:Künstliche Intelligenz im Alltag und im Alter bewusst, sicher und gekonnt einsetzen\n\nhttps://eventfrog.de/de/p/kurse-seminare/sonstige-kurse-seminare/ki-entdeckungsreise-fuer-aeltere-einsteiger-innen-7453371422091556166.html
LOCATION:OST Ostschweizer Fachhochschule, Campus Rapperswil
GEO:47.224264;8.817033
URL:https://eventfrog.de/de/p/kurse-seminare/sonstige-kurse-seminare/ki-entdeckungsreise-fuer-aeltere-einsteiger-innen-7453371422091556166.html
END:VEVENT
BEGIN:VEVENT
UID:20260424T223942Z-7453371422221579634@eventfrog.de
DTSTAMP:20260424T223942Z
DTSTART:20261109T130000Z
DTEND:20261109T160000Z
SUMMARY:KI-Entdeckungsreise für ältere Einsteiger:innen
DESCRIPTION:Künstliche Intelligenz im Alltag und im Alter bewusst, sicher und gekonnt einsetzen\n\nhttps://eventfrog.de/de/p/kurse-seminare/sonstige-kurse-seminare/ki-entdeckungsreise-fuer-aeltere-einsteiger-innen-7453371422221579634.html
LOCATION:OST Ostschweizer Fachhochschule, Campus Rapperswil
GEO:47.224264;8.817033
URL:https://eventfrog.de/de/p/kurse-seminare/sonstige-kurse-seminare/ki-entdeckungsreise-fuer-aeltere-einsteiger-innen-7453371422221579634.html
END:VEVENT
END:VCALENDAR