BEGIN:VCALENDAR
VERSION:2.0
PRODID:EVENTFROG//EVENTGROUP//ICAL
BEGIN:VEVENT
UID:20260424T144215Z-7453372593480926999@eventfrog.de
DTSTAMP:20260424T144215Z
DTSTART:20260606T120000Z
DTEND:20260606T170000Z
SUMMARY:Summer-Kunschti
DESCRIPTION:Die Summer-Kunschti Margarethen geht in die nächste Runde! Entdecke eine bunte Welt aus Sport, Spiel und Spass. Spielmaterial kann vor Ort gegen ein Pfand ausgeliehen oder selber mitgebracht werden.\n\nhttps://eventfrog.de/de/p/kinderveranstaltungen/familienveranstaltungen/summer-kunschti-7453372593480926999.html
LOCATION:Kunsteisbahn Margarethen
GEO:47.540713;7.586089
URL:https://eventfrog.de/de/p/kinderveranstaltungen/familienveranstaltungen/summer-kunschti-7453372593480926999.html
END:VEVENT
BEGIN:VEVENT
UID:20260424T144215Z-7453372680248501266@eventfrog.de
DTSTAMP:20260424T144215Z
DTSTART:20260610T120000Z
DTEND:20260610T170000Z
SUMMARY:Summer-Kunschti
DESCRIPTION:Die Summer-Kunschti Margarethen geht in die nächste Runde! Entdecke eine bunte Welt aus Sport, Spiel und Spass. Spielmaterial kann vor Ort gegen ein Pfand ausgeliehen oder selber mitgebracht werden.\n\nhttps://eventfrog.de/de/p/kinderveranstaltungen/familienveranstaltungen/summer-kunschti-7453372680248501266.html
LOCATION:Kunsteisbahn Margarethen
GEO:47.540713;7.586089
URL:https://eventfrog.de/de/p/kinderveranstaltungen/familienveranstaltungen/summer-kunschti-7453372680248501266.html
END:VEVENT
BEGIN:VEVENT
UID:20260424T144215Z-7453372680495965828@eventfrog.de
DTSTAMP:20260424T144215Z
DTSTART:20260612T120000Z
DTEND:20260612T170000Z
SUMMARY:Summer-Kunschti
DESCRIPTION:Die Summer-Kunschti Margarethen geht in die nächste Runde! Entdecke eine bunte Welt aus Sport, Spiel und Spass. Spielmaterial kann vor Ort gegen ein Pfand ausgeliehen oder selber mitgebracht werden.\n\nhttps://eventfrog.de/de/p/kinderveranstaltungen/familienveranstaltungen/summer-kunschti-7453372680495965828.html
LOCATION:Kunsteisbahn Margarethen
GEO:47.540713;7.586089
URL:https://eventfrog.de/de/p/kinderveranstaltungen/familienveranstaltungen/summer-kunschti-7453372680495965828.html
END:VEVENT
BEGIN:VEVENT
UID:20260424T144215Z-7453372680642766532@eventfrog.de
DTSTAMP:20260424T144215Z
DTSTART:20260613T120000Z
DTEND:20260613T170000Z
SUMMARY:Summer-Kunschti
DESCRIPTION:Die Summer-Kunschti Margarethen geht in die nächste Runde! Entdecke eine bunte Welt aus Sport, Spiel und Spass. Spielmaterial kann vor Ort gegen ein Pfand ausgeliehen oder selber mitgebracht werden.\n\nhttps://eventfrog.de/de/p/kinderveranstaltungen/familienveranstaltungen/summer-kunschti-7453372680642766532.html
LOCATION:Kunsteisbahn Margarethen
GEO:47.540713;7.586089
URL:https://eventfrog.de/de/p/kinderveranstaltungen/familienveranstaltungen/summer-kunschti-7453372680642766532.html
END:VEVENT
BEGIN:VEVENT
UID:20260424T144215Z-7453372680776984285@eventfrog.de
DTSTAMP:20260424T144215Z
DTSTART:20260617T120000Z
DTEND:20260617T170000Z
SUMMARY:Summer-Kunschti
DESCRIPTION:Die Summer-Kunschti Margarethen geht in die nächste Runde! Entdecke eine bunte Welt aus Sport, Spiel und Spass. Spielmaterial kann vor Ort gegen ein Pfand ausgeliehen oder selber mitgebracht werden.\n\nhttps://eventfrog.de/de/p/kinderveranstaltungen/familienveranstaltungen/summer-kunschti-7453372680776984285.html
LOCATION:Kunsteisbahn Margarethen
GEO:47.540713;7.586089
URL:https://eventfrog.de/de/p/kinderveranstaltungen/familienveranstaltungen/summer-kunschti-7453372680776984285.html
END:VEVENT
BEGIN:VEVENT
UID:20260424T144215Z-7453372680936367844@eventfrog.de
DTSTAMP:20260424T144215Z
DTSTART:20260619T120000Z
DTEND:20260619T170000Z
SUMMARY:Summer-Kunschti
DESCRIPTION:Die Summer-Kunschti Margarethen geht in die nächste Runde! Entdecke eine bunte Welt aus Sport, Spiel und Spass. Spielmaterial kann vor Ort gegen ein Pfand ausgeliehen oder selber mitgebracht werden.\n\nhttps://eventfrog.de/de/p/kinderveranstaltungen/familienveranstaltungen/summer-kunschti-7453372680936367844.html
LOCATION:Kunsteisbahn Margarethen
GEO:47.540713;7.586089
URL:https://eventfrog.de/de/p/kinderveranstaltungen/familienveranstaltungen/summer-kunschti-7453372680936367844.html
END:VEVENT
BEGIN:VEVENT
UID:20260424T144215Z-7453372681066391270@eventfrog.de
DTSTAMP:20260424T144215Z
DTSTART:20260620T120000Z
DTEND:20260620T170000Z
SUMMARY:Summer-Kunschti
DESCRIPTION:Die Summer-Kunschti Margarethen geht in die nächste Runde! Entdecke eine bunte Welt aus Sport, Spiel und Spass. Spielmaterial kann vor Ort gegen ein Pfand ausgeliehen oder selber mitgebracht werden.\n\nhttps://eventfrog.de/de/p/kinderveranstaltungen/familienveranstaltungen/summer-kunschti-7453372681066391270.html
LOCATION:Kunsteisbahn Margarethen
GEO:47.540713;7.586089
URL:https://eventfrog.de/de/p/kinderveranstaltungen/familienveranstaltungen/summer-kunschti-7453372681066391270.html
END:VEVENT
BEGIN:VEVENT
UID:20260424T144215Z-7453372681208997609@eventfrog.de
DTSTAMP:20260424T144215Z
DTSTART:20260624T120000Z
DTEND:20260624T170000Z
SUMMARY:Summer-Kunschti
DESCRIPTION:Die Summer-Kunschti Margarethen geht in die nächste Runde! Entdecke eine bunte Welt aus Sport, Spiel und Spass. Spielmaterial kann vor Ort gegen ein Pfand ausgeliehen oder selber mitgebracht werden.\n\nhttps://eventfrog.de/de/p/kinderveranstaltungen/familienveranstaltungen/summer-kunschti-7453372681208997609.html
LOCATION:Kunsteisbahn Margarethen
GEO:47.540713;7.586089
URL:https://eventfrog.de/de/p/kinderveranstaltungen/familienveranstaltungen/summer-kunschti-7453372681208997609.html
END:VEVENT
BEGIN:VEVENT
UID:20260424T144215Z-7453372681339021136@eventfrog.de
DTSTAMP:20260424T144215Z
DTSTART:20260626T120000Z
DTEND:20260626T170000Z
SUMMARY:Summer-Kunschti
DESCRIPTION:Die Summer-Kunschti Margarethen geht in die nächste Runde! Entdecke eine bunte Welt aus Sport, Spiel und Spass. Spielmaterial kann vor Ort gegen ein Pfand ausgeliehen oder selber mitgebracht werden.\n\nhttps://eventfrog.de/de/p/kinderveranstaltungen/familienveranstaltungen/summer-kunschti-7453372681339021136.html
LOCATION:Kunsteisbahn Margarethen
GEO:47.540713;7.586089
URL:https://eventfrog.de/de/p/kinderveranstaltungen/familienveranstaltungen/summer-kunschti-7453372681339021136.html
END:VEVENT
BEGIN:VEVENT
UID:20260424T144215Z-7453372681473238866@eventfrog.de
DTSTAMP:20260424T144215Z
DTSTART:20260627T120000Z
DTEND:20260627T170000Z
SUMMARY:Summer-Kunschti
DESCRIPTION:Die Summer-Kunschti Margarethen geht in die nächste Runde! Entdecke eine bunte Welt aus Sport, Spiel und Spass. Spielmaterial kann vor Ort gegen ein Pfand ausgeliehen oder selber mitgebracht werden.\n\nhttps://eventfrog.de/de/p/kinderveranstaltungen/familienveranstaltungen/summer-kunschti-7453372681473238866.html
LOCATION:Kunsteisbahn Margarethen
GEO:47.540713;7.586089
URL:https://eventfrog.de/de/p/kinderveranstaltungen/familienveranstaltungen/summer-kunschti-7453372681473238866.html
END:VEVENT
BEGIN:VEVENT
UID:20260424T144215Z-7453372681599067988@eventfrog.de
DTSTAMP:20260424T144215Z
DTSTART:20260701T120000Z
DTEND:20260701T170000Z
SUMMARY:Summer-Kunschti
DESCRIPTION:Die Summer-Kunschti Margarethen geht in die nächste Runde! Entdecke eine bunte Welt aus Sport, Spiel und Spass. Spielmaterial kann vor Ort gegen ein Pfand ausgeliehen oder selber mitgebracht werden.\n\nhttps://eventfrog.de/de/p/kinderveranstaltungen/familienveranstaltungen/summer-kunschti-7453372681599067988.html
LOCATION:Kunsteisbahn Margarethen
GEO:47.540713;7.586089
URL:https://eventfrog.de/de/p/kinderveranstaltungen/familienveranstaltungen/summer-kunschti-7453372681599067988.html
END:VEVENT
BEGIN:VEVENT
UID:20260424T144215Z-7453372681720702818@eventfrog.de
DTSTAMP:20260424T144215Z
DTSTART:20260703T120000Z
DTEND:20260703T170000Z
SUMMARY:Summer-Kunschti
DESCRIPTION:Die Summer-Kunschti Margarethen geht in die nächste Runde! Entdecke eine bunte Welt aus Sport, Spiel und Spass. Spielmaterial kann vor Ort gegen ein Pfand ausgeliehen oder selber mitgebracht werden.\n\nhttps://eventfrog.de/de/p/kinderveranstaltungen/familienveranstaltungen/summer-kunschti-7453372681720702818.html
LOCATION:Kunsteisbahn Margarethen
GEO:47.540713;7.586089
URL:https://eventfrog.de/de/p/kinderveranstaltungen/familienveranstaltungen/summer-kunschti-7453372681720702818.html
END:VEVENT
BEGIN:VEVENT
UID:20260424T144215Z-7453372681846531940@eventfrog.de
DTSTAMP:20260424T144215Z
DTSTART:20260704T120000Z
DTEND:20260704T170000Z
SUMMARY:Summer-Kunschti
DESCRIPTION:Die Summer-Kunschti Margarethen geht in die nächste Runde! Entdecke eine bunte Welt aus Sport, Spiel und Spass. Spielmaterial kann vor Ort gegen ein Pfand ausgeliehen oder selber mitgebracht werden.\n\nhttps://eventfrog.de/de/p/kinderveranstaltungen/familienveranstaltungen/summer-kunschti-7453372681846531940.html
LOCATION:Kunsteisbahn Margarethen
GEO:47.540713;7.586089
URL:https://eventfrog.de/de/p/kinderveranstaltungen/familienveranstaltungen/summer-kunschti-7453372681846531940.html
END:VEVENT
BEGIN:VEVENT
UID:20260424T144215Z-7453372681972361062@eventfrog.de
DTSTAMP:20260424T144215Z
DTSTART:20260708T120000Z
DTEND:20260708T170000Z
SUMMARY:Summer-Kunschti
DESCRIPTION:Die Summer-Kunschti Margarethen geht in die nächste Runde! Entdecke eine bunte Welt aus Sport, Spiel und Spass. Spielmaterial kann vor Ort gegen ein Pfand ausgeliehen oder selber mitgebracht werden.\n\nhttps://eventfrog.de/de/p/kinderveranstaltungen/familienveranstaltungen/summer-kunschti-7453372681972361062.html
LOCATION:Kunsteisbahn Margarethen
GEO:47.540713;7.586089
URL:https://eventfrog.de/de/p/kinderveranstaltungen/familienveranstaltungen/summer-kunschti-7453372681972361062.html
END:VEVENT
BEGIN:VEVENT
UID:20260424T144215Z-7453372682102384500@eventfrog.de
DTSTAMP:20260424T144215Z
DTSTART:20260710T120000Z
DTEND:20260710T170000Z
SUMMARY:Summer-Kunschti
DESCRIPTION:Die Summer-Kunschti Margarethen geht in die nächste Runde! Entdecke eine bunte Welt aus Sport, Spiel und Spass. Spielmaterial kann vor Ort gegen ein Pfand ausgeliehen oder selber mitgebracht werden.\n\nhttps://eventfrog.de/de/p/kinderveranstaltungen/familienveranstaltungen/summer-kunschti-7453372682102384500.html
LOCATION:Kunsteisbahn Margarethen
GEO:47.540713;7.586089
URL:https://eventfrog.de/de/p/kinderveranstaltungen/familienveranstaltungen/summer-kunschti-7453372682102384500.html
END:VEVENT
BEGIN:VEVENT
UID:20260424T144215Z-7453372682228213622@eventfrog.de
DTSTAMP:20260424T144215Z
DTSTART:20260711T120000Z
DTEND:20260711T170000Z
SUMMARY:Summer-Kunschti
DESCRIPTION:Die Summer-Kunschti Margarethen geht in die nächste Runde! Entdecke eine bunte Welt aus Sport, Spiel und Spass. Spielmaterial kann vor Ort gegen ein Pfand ausgeliehen oder selber mitgebracht werden.\n\nhttps://eventfrog.de/de/p/kinderveranstaltungen/familienveranstaltungen/summer-kunschti-7453372682228213622.html
LOCATION:Kunsteisbahn Margarethen
GEO:47.540713;7.586089
URL:https://eventfrog.de/de/p/kinderveranstaltungen/familienveranstaltungen/summer-kunschti-7453372682228213622.html
END:VEVENT
BEGIN:VEVENT
UID:20260424T144215Z-7453372682354042744@eventfrog.de
DTSTAMP:20260424T144215Z
DTSTART:20260715T120000Z
DTEND:20260715T170000Z
SUMMARY:Summer-Kunschti
DESCRIPTION:Die Summer-Kunschti Margarethen geht in die nächste Runde! Entdecke eine bunte Welt aus Sport, Spiel und Spass. Spielmaterial kann vor Ort gegen ein Pfand ausgeliehen oder selber mitgebracht werden.\n\nhttps://eventfrog.de/de/p/kinderveranstaltungen/familienveranstaltungen/summer-kunschti-7453372682354042744.html
LOCATION:Kunsteisbahn Margarethen
GEO:47.540713;7.586089
URL:https://eventfrog.de/de/p/kinderveranstaltungen/familienveranstaltungen/summer-kunschti-7453372682354042744.html
END:VEVENT
BEGIN:VEVENT
UID:20260424T144215Z-7453372682488260483@eventfrog.de
DTSTAMP:20260424T144215Z
DTSTART:20260717T120000Z
DTEND:20260717T170000Z
SUMMARY:Summer-Kunschti
DESCRIPTION:Die Summer-Kunschti Margarethen geht in die nächste Runde! Entdecke eine bunte Welt aus Sport, Spiel und Spass. Spielmaterial kann vor Ort gegen ein Pfand ausgeliehen oder selber mitgebracht werden.\n\nhttps://eventfrog.de/de/p/kinderveranstaltungen/familienveranstaltungen/summer-kunschti-7453372682488260483.html
LOCATION:Kunsteisbahn Margarethen
GEO:47.540713;7.586089
URL:https://eventfrog.de/de/p/kinderveranstaltungen/familienveranstaltungen/summer-kunschti-7453372682488260483.html
END:VEVENT
BEGIN:VEVENT
UID:20260424T144215Z-7453372682618283909@eventfrog.de
DTSTAMP:20260424T144215Z
DTSTART:20260718T120000Z
DTEND:20260718T170000Z
SUMMARY:Summer-Kunschti
DESCRIPTION:Die Summer-Kunschti Margarethen geht in die nächste Runde! Entdecke eine bunte Welt aus Sport, Spiel und Spass. Spielmaterial kann vor Ort gegen ein Pfand ausgeliehen oder selber mitgebracht werden.\n\nhttps://eventfrog.de/de/p/kinderveranstaltungen/familienveranstaltungen/summer-kunschti-7453372682618283909.html
LOCATION:Kunsteisbahn Margarethen
GEO:47.540713;7.586089
URL:https://eventfrog.de/de/p/kinderveranstaltungen/familienveranstaltungen/summer-kunschti-7453372682618283909.html
END:VEVENT
BEGIN:VEVENT
UID:20260424T144215Z-7453372682760890247@eventfrog.de
DTSTAMP:20260424T144215Z
DTSTART:20260722T120000Z
DTEND:20260722T170000Z
SUMMARY:Summer-Kunschti
DESCRIPTION:Die Summer-Kunschti Margarethen geht in die nächste Runde! Entdecke eine bunte Welt aus Sport, Spiel und Spass. Spielmaterial kann vor Ort gegen ein Pfand ausgeliehen oder selber mitgebracht werden.\n\nhttps://eventfrog.de/de/p/kinderveranstaltungen/familienveranstaltungen/summer-kunschti-7453372682760890247.html
LOCATION:Kunsteisbahn Margarethen
GEO:47.540713;7.586089
URL:https://eventfrog.de/de/p/kinderveranstaltungen/familienveranstaltungen/summer-kunschti-7453372682760890247.html
END:VEVENT
BEGIN:VEVENT
UID:20260424T144215Z-7453372682886719369@eventfrog.de
DTSTAMP:20260424T144215Z
DTSTART:20260724T120000Z
DTEND:20260724T170000Z
SUMMARY:Summer-Kunschti
DESCRIPTION:Die Summer-Kunschti Margarethen geht in die nächste Runde! Entdecke eine bunte Welt aus Sport, Spiel und Spass. Spielmaterial kann vor Ort gegen ein Pfand ausgeliehen oder selber mitgebracht werden.\n\nhttps://eventfrog.de/de/p/kinderveranstaltungen/familienveranstaltungen/summer-kunschti-7453372682886719369.html
LOCATION:Kunsteisbahn Margarethen
GEO:47.540713;7.586089
URL:https://eventfrog.de/de/p/kinderveranstaltungen/familienveranstaltungen/summer-kunschti-7453372682886719369.html
END:VEVENT
BEGIN:VEVENT
UID:20260424T144215Z-7453372683050297232@eventfrog.de
DTSTAMP:20260424T144215Z
DTSTART:20260725T120000Z
DTEND:20260725T170000Z
SUMMARY:Summer-Kunschti
DESCRIPTION:Die Summer-Kunschti Margarethen geht in die nächste Runde! Entdecke eine bunte Welt aus Sport, Spiel und Spass. Spielmaterial kann vor Ort gegen ein Pfand ausgeliehen oder selber mitgebracht werden.\n\nhttps://eventfrog.de/de/p/kinderveranstaltungen/familienveranstaltungen/summer-kunschti-7453372683050297232.html
LOCATION:Kunsteisbahn Margarethen
GEO:47.540713;7.586089
URL:https://eventfrog.de/de/p/kinderveranstaltungen/familienveranstaltungen/summer-kunschti-7453372683050297232.html
END:VEVENT
BEGIN:VEVENT
UID:20260424T144215Z-7453372683201292179@eventfrog.de
DTSTAMP:20260424T144215Z
DTSTART:20260729T120000Z
DTEND:20260729T170000Z
SUMMARY:Summer-Kunschti
DESCRIPTION:Die Summer-Kunschti Margarethen geht in die nächste Runde! Entdecke eine bunte Welt aus Sport, Spiel und Spass. Spielmaterial kann vor Ort gegen ein Pfand ausgeliehen oder selber mitgebracht werden.\n\nhttps://eventfrog.de/de/p/kinderveranstaltungen/familienveranstaltungen/summer-kunschti-7453372683201292179.html
LOCATION:Kunsteisbahn Margarethen
GEO:47.540713;7.586089
URL:https://eventfrog.de/de/p/kinderveranstaltungen/familienveranstaltungen/summer-kunschti-7453372683201292179.html
END:VEVENT
BEGIN:VEVENT
UID:20260424T144215Z-7453372683327121304@eventfrog.de
DTSTAMP:20260424T144215Z
DTSTART:20260731T120000Z
DTEND:20260731T170000Z
SUMMARY:Summer-Kunschti
DESCRIPTION:Die Summer-Kunschti Margarethen geht in die nächste Runde! Entdecke eine bunte Welt aus Sport, Spiel und Spass. Spielmaterial kann vor Ort gegen ein Pfand ausgeliehen oder selber mitgebracht werden.\n\nhttps://eventfrog.de/de/p/kinderveranstaltungen/familienveranstaltungen/summer-kunschti-7453372683327121304.html
LOCATION:Kunsteisbahn Margarethen
GEO:47.540713;7.586089
URL:https://eventfrog.de/de/p/kinderveranstaltungen/familienveranstaltungen/summer-kunschti-7453372683327121304.html
END:VEVENT
BEGIN:VEVENT
UID:20260424T144215Z-7453372683457144732@eventfrog.de
DTSTAMP:20260424T144215Z
DTSTART:20260801T120000Z
DTEND:20260801T170000Z
SUMMARY:Summer-Kunschti
DESCRIPTION:Die Summer-Kunschti Margarethen geht in die nächste Runde! Entdecke eine bunte Welt aus Sport, Spiel und Spass. Spielmaterial kann vor Ort gegen ein Pfand ausgeliehen oder selber mitgebracht werden.\n\nhttps://eventfrog.de/de/p/kinderveranstaltungen/familienveranstaltungen/summer-kunschti-7453372683457144732.html
LOCATION:Kunsteisbahn Margarethen
GEO:47.540713;7.586089
URL:https://eventfrog.de/de/p/kinderveranstaltungen/familienveranstaltungen/summer-kunschti-7453372683457144732.html
END:VEVENT
BEGIN:VEVENT
UID:20260424T144215Z-7453372683582973863@eventfrog.de
DTSTAMP:20260424T144215Z
DTSTART:20260805T120000Z
DTEND:20260805T170000Z
SUMMARY:Summer-Kunschti
DESCRIPTION:Die Summer-Kunschti Margarethen geht in die nächste Runde! Entdecke eine bunte Welt aus Sport, Spiel und Spass. Spielmaterial kann vor Ort gegen ein Pfand ausgeliehen oder selber mitgebracht werden.\n\nhttps://eventfrog.de/de/p/kinderveranstaltungen/familienveranstaltungen/summer-kunschti-7453372683582973863.html
LOCATION:Kunsteisbahn Margarethen
GEO:47.540713;7.586089
URL:https://eventfrog.de/de/p/kinderveranstaltungen/familienveranstaltungen/summer-kunschti-7453372683582973863.html
END:VEVENT
BEGIN:VEVENT
UID:20260424T144215Z-7453372683721385897@eventfrog.de
DTSTAMP:20260424T144215Z
DTSTART:20260807T120000Z
DTEND:20260807T170000Z
SUMMARY:Summer-Kunschti
DESCRIPTION:Die Summer-Kunschti Margarethen geht in die nächste Runde! Entdecke eine bunte Welt aus Sport, Spiel und Spass. Spielmaterial kann vor Ort gegen ein Pfand ausgeliehen oder selber mitgebracht werden.\n\nhttps://eventfrog.de/de/p/kinderveranstaltungen/familienveranstaltungen/summer-kunschti-7453372683721385897.html
LOCATION:Kunsteisbahn Margarethen
GEO:47.540713;7.586089
URL:https://eventfrog.de/de/p/kinderveranstaltungen/familienveranstaltungen/summer-kunschti-7453372683721385897.html
END:VEVENT
BEGIN:VEVENT
UID:20260424T144215Z-7453372683855603627@eventfrog.de
DTSTAMP:20260424T144215Z
DTSTART:20260808T120000Z
DTEND:20260808T170000Z
SUMMARY:Summer-Kunschti
DESCRIPTION:Die Summer-Kunschti Margarethen geht in die nächste Runde! Entdecke eine bunte Welt aus Sport, Spiel und Spass. Spielmaterial kann vor Ort gegen ein Pfand ausgeliehen oder selber mitgebracht werden.\n\nhttps://eventfrog.de/de/p/kinderveranstaltungen/familienveranstaltungen/summer-kunschti-7453372683855603627.html
LOCATION:Kunsteisbahn Margarethen
GEO:47.540713;7.586089
URL:https://eventfrog.de/de/p/kinderveranstaltungen/familienveranstaltungen/summer-kunschti-7453372683855603627.html
END:VEVENT
END:VCALENDAR