BEGIN:VCALENDAR
VERSION:2.0
PRODID:EVENTFROG//EVENTGROUP//ICAL
BEGIN:VEVENT
UID:20260426T033620Z-7453925782391389395@eventfrog.de
DTSTAMP:20260426T033620Z
DTSTART:20260425T214013Z
SUMMARY:Unterm Milchwald - ein Stück für Stimmen
DESCRIPTION:Unterm Milchwald - ein Stück für Stimmen\n\nhttps://eventfrog.de/de/p/theater-buehne/unterm-milchwald-ein-stueck-fuer-stimmen-7453925782391389395.html
LOCATION:Zimmer-Theater Ariane
GEO:47.508887;8.723156
URL:https://eventfrog.de/de/p/theater-buehne/unterm-milchwald-ein-stueck-fuer-stimmen-7453925782391389395.html
END:VEVENT
BEGIN:VEVENT
UID:20260426T033620Z-7453925779925138600@eventfrog.de
DTSTAMP:20260426T033620Z
DTSTART:20260509T160000Z
SUMMARY:Unterm Milchwald - ein Stück für Stimmen
DESCRIPTION:Unterm Milchwald - ein Stück für Stimmen\n\nhttps://eventfrog.de/de/p/theater-buehne/unterm-milchwald-ein-stueck-fuer-stimmen-7453925779925138600.html
LOCATION:Zimmer-Theater Ariane
GEO:47.508887;8.723156
URL:https://eventfrog.de/de/p/theater-buehne/unterm-milchwald-ein-stueck-fuer-stimmen-7453925779925138600.html
END:VEVENT
BEGIN:VEVENT
UID:20260426T033620Z-7453925784895389119@eventfrog.de
DTSTAMP:20260426T033620Z
DTSTART:20260511T180000Z
SUMMARY:Unterm Milchwald - ein Stück für Stimmen
DESCRIPTION:Unterm Milchwald - ein Stück für Stimmen\n\nhttps://eventfrog.de/de/p/theater-buehne/unterm-milchwald-ein-stueck-fuer-stimmen-7453925784895389119.html
LOCATION:Zimmer-Theater Ariane
GEO:47.508887;8.723156
URL:https://eventfrog.de/de/p/theater-buehne/unterm-milchwald-ein-stueck-fuer-stimmen-7453925784895389119.html
END:VEVENT
END:VCALENDAR