BEGIN:VCALENDAR
VERSION:2.0
PRODID:EVENTFROG//EVENT//ICAL
BEGIN:VEVENT
UID:20260424T080343Z-7329622797608595949@eventfrog.de
DTSTAMP:20260424T080343Z
DTSTART:20260518T101500Z
DTEND:20260518T111500Z
SUMMARY:Bogdan Božović
DESCRIPTION:Bogdan Božović\n\nhttps://eventfrog.de/de/p/konzerte/bogdan-boovi-7329622797608595949.html
LOCATION:Stadthaus
GEO:47.501023;8.731381
URL:https://eventfrog.de/de/p/konzerte/bogdan-boovi-7329622797608595949.html
END:VEVENT
END:VCALENDAR