BEGIN:VCALENDAR
VERSION:2.0
PRODID:EVENTFROG//EVENT//ICAL
BEGIN:VEVENT
UID:20260424T065549Z-7353479516549872298@eventfrog.de
DTSTAMP:20260424T065549Z
DTSTART:20260627T140000Z
DTEND:20260627T200000Z
SUMMARY:Mountain-Rave-Journey – Finale: Sunset Boat Party
DESCRIPTION:Teil 3 der Mountain-Rave-Journey: Vollmond, 3 DJs und elektronische Musik auf der Tschentenalp. Bergfahrt inklusive. Dein letztes Token vor der Bootparty.\n\nhttps://eventfrog.de/de/p/partys/electro/mountain-rave-journey-finale-sunset-boat-party-7353479516549872298.html
LOCATION:Schiffsstation BLS Thun
GEO:46.754104;7.631319
URL:https://eventfrog.de/de/p/partys/electro/mountain-rave-journey-finale-sunset-boat-party-7353479516549872298.html
END:VEVENT
END:VCALENDAR