BEGIN:VCALENDAR
VERSION:2.0
PRODID:EVENTFROG//EVENT//ICAL
BEGIN:VEVENT
UID:20260420T160109Z-7380225789906674524@eventfrog.de
DTSTAMP:20260420T160109Z
DTSTART:20260913T063000Z
DTEND:20260913T153000Z
SUMMARY:ADAC Motorrad Intensiv-Training „Ladies only” (Level 1)
DESCRIPTION:Von Frauen* für Frauen!\nLust auf mehr Sicherheit auf 2 Rädern? Dann seid ihr bei uns goldrichtig!\n\nhttps://eventfrog.de/de/p/diverses/adac-motorrad-intensiv-training-ladies-only-level-1-7380225789906674524.html
LOCATION:ADAC Fahrsicherheitszentrum Grevenbroich
GEO:51.083287;6.551566
URL:https://eventfrog.de/de/p/diverses/adac-motorrad-intensiv-training-ladies-only-level-1-7380225789906674524.html
END:VEVENT
END:VCALENDAR