BEGIN:VCALENDAR
VERSION:2.0
PRODID:EVENTFROG//EVENT//ICAL
BEGIN:VEVENT
UID:20260424T123526Z-7386759015408100473@eventfrog.de
DTSTAMP:20260424T123526Z
DTSTART:20260502T173000Z
DTEND:20260502T190000Z
SUMMARY:LESUNG: Elvira Zeissler, Karen A. Moon, Karolyn Ciseau
DESCRIPTION:Drei Autorinnen präsentierten düstere Fantasy-Geschichten voller Magie, Drachen und verzweifelter Kämpfe zwischen Liebe und Verderben.\n\nhttps://eventfrog.de/de/p/theater-buehne/lesung/lesung-elvira-zeissler-karen-a-moon-karolyn-ciseau-7386759015408100473.html
LOCATION:Hugendubel Aurich
GEO:53.469320;7.481280
URL:https://eventfrog.de/de/p/theater-buehne/lesung/lesung-elvira-zeissler-karen-a-moon-karolyn-ciseau-7386759015408100473.html
END:VEVENT
END:VCALENDAR