BEGIN:VCALENDAR
VERSION:2.0
PRODID:EVENTFROG//EVENT//ICAL
BEGIN:VEVENT
UID:20260421T102034Z-7389240300462428122@eventfrog.de
DTSTAMP:20260421T102034Z
DTSTART:20260424T173000Z
DTEND:20260424T200000Z
SUMMARY:William Wahl - wahlweise
DESCRIPTION:William Wahl präsentiert sein drittes Programm «wahlweise» mit Wortspielen, Poesie und Komik. Seine Klavierlieder sind zartbitterböse und zeigen menschliche Schwächen liebevoll. \n\nhttps://eventfrog.de/de/p/theater-buehne/comedy-kabarett/william-wahl-wahlweise-7389240300462428122.html
LOCATION:Kurtheater
GEO:51.895615;8.983543
URL:https://eventfrog.de/de/p/theater-buehne/comedy-kabarett/william-wahl-wahlweise-7389240300462428122.html
END:VEVENT
END:VCALENDAR