BEGIN:VCALENDAR
VERSION:2.0
PRODID:EVENTFROG//EVENT//ICAL
BEGIN:VEVENT
UID:20260420T080250Z-7392936866687776017@eventfrog.de
DTSTAMP:20260420T080250Z
DTSTART:20260425T090000Z
DTEND:20260425T153000Z
SUMMARY:2. Immobilientag Viersen
DESCRIPTION:Treffpunkt für alle, die Immobilien wirklich verstehen wollen: Experten zeigen Chancen rund um Verkauf, Sanierung, Erbe, Steuern und Geldanlage. Ehrlich, praxisnah und mit Aha-Momenten. Dazu Austausch\n\nhttps://eventfrog.de/de/p/fuehrungen-vortraege/vortrag/2-immobilientag-viersen-7392936866687776017.html
LOCATION:Gerhardts Immobilien
GEO:51.281428;6.201590
URL:https://eventfrog.de/de/p/fuehrungen-vortraege/vortrag/2-immobilientag-viersen-7392936866687776017.html
END:VEVENT
END:VCALENDAR