BEGIN:VCALENDAR
VERSION:2.0
PRODID:EVENTFROG//EVENT//ICAL
BEGIN:VEVENT
UID:20260422T181518Z-7393281037613174195@eventfrog.de
DTSTAMP:20260422T181518Z
DTSTART:20260503T160000Z
DTEND:20260503T183000Z
SUMMARY:MELLOW - BLOW YOUR MIND! - MAGIE & ILLUSIONEN LIVE!
DESCRIPTION:"Magischer Spaß für die ganze Familie: Mellow, Deutscher Meister der Zauberkunst, begeistert mit kreativen Illusionen und humorvollem Storytelling in einer 2-stündigen Show. Empfohlen ab 12 Jahren."\n\nhttps://eventfrog.de/de/p/theater-buehne/buehnenveranstaltung/mellow-blow-your-mind-magie-illusionen-live-7393281037613174195.html
LOCATION:Alte Weberei
GEO:52.429580;7.068571
URL:https://eventfrog.de/de/p/theater-buehne/buehnenveranstaltung/mellow-blow-your-mind-magie-illusionen-live-7393281037613174195.html
END:VEVENT
END:VCALENDAR