BEGIN:VCALENDAR
VERSION:2.0
PRODID:EVENTFROG//EVENT//ICAL
BEGIN:VEVENT
UID:20260426T001916Z-7394014286287262838@eventfrog.de
DTSTAMP:20260426T001916Z
DTSTART:20260425T180000Z
DTEND:20260425T210000Z
SUMMARY:HELGE SCHNEIDER Tournee 26/27 ELLEBOGEN VOM TICH!
DESCRIPTION:Der Musiker Helge Schneider begeisterte mit einer verrückten Musikperformance. Er kombinierte einzigartige Klänge von Trommel, Saxophon, Klavier und Trompete. Seine humorvolle Show war voller Überrasc\n\nhttps://eventfrog.de/de/p/konzerte/jazz-blues/helge-schneider-tournee-26-27-ellebogen-vom-tich-7394014286287262838.html
LOCATION:Eventhalle FV Wendelstein
GEO:49.346980;11.156000
URL:https://eventfrog.de/de/p/konzerte/jazz-blues/helge-schneider-tournee-26-27-ellebogen-vom-tich-7394014286287262838.html
END:VEVENT
END:VCALENDAR