BEGIN:VCALENDAR
VERSION:2.0
PRODID:EVENTFROG//EVENT//ICAL
BEGIN:VEVENT
UID:20260424T031200Z-7397584818576347936@eventfrog.de
DTSTAMP:20260424T031200Z
DTSTART:20260424T170000Z
SUMMARY:Ökologisch Imkern lernen in Kassel
DESCRIPTION:Der Imkerkurs von Stadtbienen ist ein Jahreskurs. Du erlebst mit uns in deiner Stadt ein ganzes Bienenjahr in Theorie und Praxis.\n\nhttps://eventfrog.de/de/p/kurse-seminare/sonstige-kurse-seminare/oekologisch-imkern-lernen-in-kassel-7397584818576347936.html
LOCATION:Crumbacher Straße
GEO:51.269571;9.544744
URL:https://eventfrog.de/de/p/kurse-seminare/sonstige-kurse-seminare/oekologisch-imkern-lernen-in-kassel-7397584818576347936.html
END:VEVENT
END:VCALENDAR