BEGIN:VCALENDAR
VERSION:2.0
PRODID:EVENTFROG//EVENT//ICAL
BEGIN:VEVENT
UID:20260421T180357Z-7397948182775261008@eventfrog.de
DTSTAMP:20260421T180357Z
DTSTART:20260509T070000Z
DTEND:20260509T143000Z
SUMMARY:Diversity.Skillz
DESCRIPTION:Fortbildung vermittelt Kompetenzen zu Diversität, Diskriminierung und interkulturellen Dynamiken für professionelle (soziale) Arbeit.\n\nhttps://eventfrog.de/de/p/kurse-seminare/berufliche-bildung/diversity-skillz-7397948182775261008.html
LOCATION:INNSEL-Fortbildung
GEO:47.786292;9.610628
URL:https://eventfrog.de/de/p/kurse-seminare/berufliche-bildung/diversity-skillz-7397948182775261008.html
END:VEVENT
END:VCALENDAR