BEGIN:VCALENDAR
VERSION:2.0
PRODID:EVENTFROG//EVENT//ICAL
BEGIN:VEVENT
UID:20260425T194619Z-7403565014446023350@eventfrog.de
DTSTAMP:20260425T194619Z
DTSTART:20260427T080000Z
DTEND:20260427T084500Z
SUMMARY:Was macht das Wetter
DESCRIPTION:Eine spielerische und sehr visuelle Show.\n\nhttps://eventfrog.de/de/p/theater-buehne/was-macht-das-wetter-7403565014446023350.html
LOCATION:TAK Theater Liechtenstein
GEO:47.167627;9.511821
URL:https://eventfrog.de/de/p/theater-buehne/was-macht-das-wetter-7403565014446023350.html
END:VEVENT
END:VCALENDAR