BEGIN:VCALENDAR
VERSION:2.0
PRODID:EVENTFROG//EVENT//ICAL
BEGIN:VEVENT
UID:20260425T220216Z-7407916806436823800@eventfrog.de
DTSTAMP:20260425T220216Z
DTSTART:20261018T120000Z
SUMMARY:Kurzwanderung mit Köbi Hug
DESCRIPTION:Kurzwanderung mit Köbi Hug\n\nhttps://eventfrog.de/de/p/freizeit-ausfluege/kurzwanderung-mit-koebi-hug-7407916806436823800.html
LOCATION:Kloster Fischingen, Kirche
GEO:47.411719;8.967503
URL:https://eventfrog.de/de/p/freizeit-ausfluege/kurzwanderung-mit-koebi-hug-7407916806436823800.html
END:VEVENT
END:VCALENDAR