BEGIN:VCALENDAR
VERSION:2.0
PRODID:EVENTFROG//EVENT//ICAL
BEGIN:VEVENT
UID:20260424T025354Z-7408885711909161729@eventfrog.de
DTSTAMP:20260424T025354Z
DTSTART:20260427T063000Z
DTEND:20260427T153000Z
SUMMARY:ADAC Pkw Perfektions-Training 2
DESCRIPTION:Perfektion im Blick\n\nAuf dem Weg zur Fahrzeugbeherrschung stehen komplexe Fahraufgaben und wir immer an eurer Seite.\n\nhttps://eventfrog.de/de/p/diverses/adac-pkw-perfektions-training-2-7408885711909161729.html
LOCATION:ADAC Fahrsicherheitszentrum Grevenbroich
GEO:51.083287;6.551566
URL:https://eventfrog.de/de/p/diverses/adac-pkw-perfektions-training-2-7408885711909161729.html
END:VEVENT
END:VCALENDAR