BEGIN:VCALENDAR
VERSION:2.0
PRODID:EVENTFROG//EVENT//ICAL
BEGIN:VEVENT
UID:20260421T055032Z-7411750544555940822@eventfrog.de
DTSTAMP:20260421T055032Z
DTSTART:20260423T170000Z
DTEND:20260423T190000Z
SUMMARY:offener Singkreis (Gesang und Klang)
DESCRIPTION:Offener Treff für alle die gern singen und Klänge lieben\n\nhttps://eventfrog.de/de/p/gesundheit-spiritualitaet/gesundheit-wohlbefinden/offener-singkreis-gesang-und-klang-7411750544555940822.html
LOCATION:Aktiv Entspannt- Zentrum für Klang und Entspannung Sylvia Ellingen
GEO:50.726517;7.366158
URL:https://eventfrog.de/de/p/gesundheit-spiritualitaet/gesundheit-wohlbefinden/offener-singkreis-gesang-und-klang-7411750544555940822.html
END:VEVENT
END:VCALENDAR