BEGIN:VCALENDAR
VERSION:2.0
PRODID:EVENTFROG//EVENT//ICAL
BEGIN:VEVENT
UID:20260426T002512Z-7416194263405338897@eventfrog.de
DTSTAMP:20260426T002512Z
DTSTART:20260426T130000Z
SUMMARY:Goethe, Wassermaus und Kröte
DESCRIPTION:Am 26. April zeigt das Kulturhaus theater 1 in Bad Münstereifel das Stück «Goethe, Wassermaus und Kröte» für Kinder ab 4 Jahren.\n\nhttps://eventfrog.de/de/p/theater-buehne/theater/goethe-wassermaus-und-kroete-7416194263405338897.html
LOCATION:Kulturhaus theater 1
GEO:50.555035;6.762622
URL:https://eventfrog.de/de/p/theater-buehne/theater/goethe-wassermaus-und-kroete-7416194263405338897.html
END:VEVENT
END:VCALENDAR