BEGIN:VCALENDAR
VERSION:2.0
PRODID:EVENTFROG//EVENT//ICAL
BEGIN:VEVENT
UID:20260421T180511Z-7418314277985980733@eventfrog.de
DTSTAMP:20260421T180511Z
DTSTART:20260423T063000Z
DTEND:20260423T153000Z
SUMMARY:ADAC Pkw Basis-Training in Kaarst
DESCRIPTION:Unser Kurs-Klassiker für alle Pkw-Fahrer, egal ob Sie sehr selten fahren oder km-Weltmeister sind.\n\nhttps://eventfrog.de/de/p/kurse-seminare/coaching/adac-pkw-basis-training-in-kaarst-7418314277985980733.html
LOCATION:ADAC Verkehrsübungszentrum Kaarst
GEO:51.241930;6.649467
URL:https://eventfrog.de/de/p/kurse-seminare/coaching/adac-pkw-basis-training-in-kaarst-7418314277985980733.html
END:VEVENT
END:VCALENDAR