BEGIN:VCALENDAR
VERSION:2.0
PRODID:EVENTFROG//EVENT//ICAL
BEGIN:VEVENT
UID:20260422T112723Z-7421300641853626483@eventfrog.de
DTSTAMP:20260422T112723Z
DTSTART:20260504T083000Z
DTEND:20260504T163000Z
SUMMARY:Sich verwandt machen
DESCRIPTION:Die Ausstellung «Making Kin / Sich verwandt machen» zeigt internationale Künstlerinnen und Beziehungsnetze.\n\nhttps://eventfrog.de/de/p/kunst-ausstellungen/ausstellung/sich-verwandt-machen-7421300641853626483.html
LOCATION:Humboldt Forum
GEO:52.517275;13.401640
URL:https://eventfrog.de/de/p/kunst-ausstellungen/ausstellung/sich-verwandt-machen-7421300641853626483.html
END:VEVENT
END:VCALENDAR