BEGIN:VCALENDAR
VERSION:2.0
PRODID:EVENTFROG//EVENT//ICAL
BEGIN:VEVENT
UID:20260425T222821Z-7422612947736761683@eventfrog.de
DTSTAMP:20260425T222821Z
DTSTART:20260429T063000Z
DTEND:20260429T141500Z
SUMMARY:Erste-Hilfe-Ausbildung: Richtig reagieren und Leben retten
DESCRIPTION:Erste-Hilfe-Ausbildung: Richtig reagieren und Leben retten - für eine sichere Reaktion bei alltäglichen Notfällen\n\nhttps://eventfrog.de/de/p/kurse-seminare/sonstige-kurse-seminare/erste-hilfe-ausbildung-richtig-reagieren-und-leben-retten-7422612947736761683.html
LOCATION:Malteser Hilfsdienst e. V. BGL
GEO:47.744583;12.903100
URL:https://eventfrog.de/de/p/kurse-seminare/sonstige-kurse-seminare/erste-hilfe-ausbildung-richtig-reagieren-und-leben-retten-7422612947736761683.html
END:VEVENT
END:VCALENDAR