BEGIN:VCALENDAR
VERSION:2.0
PRODID:EVENTFROG//EVENT//ICAL
BEGIN:VEVENT
UID:20260424T123706Z-7423303412589061374@eventfrog.de
DTSTAMP:20260424T123706Z
DTSTART:20260426T170000Z
DTEND:20260426T191500Z
SUMMARY:Buchlesung "Ausgehebelt" mit Michael A. Grimm
DESCRIPTION:Im sechsten Buch der Reihe „Ausgehebelt“ von Hans Weber und Armin Ruhland spielt ein Kapitel in Mariakirchen. Mit der Band „Support“ stellen Autor und Schauspieler Michael A. Grimm den Krimi vor.\n\nhttps://eventfrog.de/de/p/theater-buehne/lesung/buchlesung-ausgehebelt-mit-michael-a-grimm-7423303412589061374.html
LOCATION:Hofwirt Mariakirchen
GEO:48.575894;12.863667
URL:https://eventfrog.de/de/p/theater-buehne/lesung/buchlesung-ausgehebelt-mit-michael-a-grimm-7423303412589061374.html
END:VEVENT
END:VCALENDAR