BEGIN:VCALENDAR
VERSION:2.0
PRODID:EVENTFROG//EVENT//ICAL
BEGIN:VEVENT
UID:20260426T022513Z-7425575832490407984@eventfrog.de
DTSTAMP:20260426T022513Z
DTSTART:20261101T230000Z
SUMMARY:The Sisters Of Mercy (UK)
DESCRIPTION:The Sisters Of Mercy prägen seit über 40 Jahren mit ihrem eigenständigen Post-Punk-Sound und innovativen Live-Shows die Underground-Musik.\n\nhttps://eventfrog.de/de/p/konzerte/pop-rock/the-sisters-of-mercy-uk-7425575832490407984.html
LOCATION:XTRA
GEO:47.384167;8.533001
URL:https://eventfrog.de/de/p/konzerte/pop-rock/the-sisters-of-mercy-uk-7425575832490407984.html
END:VEVENT
END:VCALENDAR