BEGIN:VCALENDAR
VERSION:2.0
PRODID:EVENTFROG//EVENT//ICAL
BEGIN:VEVENT
UID:20260420T210551Z-7426177675583043675@eventfrog.de
DTSTAMP:20260420T210551Z
DTSTART:20260426T123000Z
DTEND:20260426T160000Z
SUMMARY:Sound & Breath Experience – Breathwork meets Gong
DESCRIPTION:Ein Nachmittag für Tiefe und Präsenz.\nGong Meditation und Breathwork verbinden sich zu einem Erlebnis aus Klang, Atem und innerer Weite.\n\nhttps://eventfrog.de/de/p/gesundheit-spiritualitaet/gesundheit-wohlbefinden/sound-breath-experience-breathwork-meets-gong-7426177675583043675.html
LOCATION:Freiraum Rosenheim
GEO:47.864101;12.099664
URL:https://eventfrog.de/de/p/gesundheit-spiritualitaet/gesundheit-wohlbefinden/sound-breath-experience-breathwork-meets-gong-7426177675583043675.html
END:VEVENT
END:VCALENDAR