BEGIN:VCALENDAR
VERSION:2.0
PRODID:EVENTFROG//EVENT//ICAL
BEGIN:VEVENT
UID:20260425T124302Z-7429840622473724488@eventfrog.de
DTSTAMP:20260425T124302Z
DTSTART:20260504T180000Z
DTEND:20260504T200000Z
SUMMARY:Kalter weißer Mann - Komödie
DESCRIPTION:Die Komödie «Kalter weißer Mann» thematisiert Gender-Sprache und politische Korrektheit bei einer Firmen-Trauerfeier.\n\nhttps://eventfrog.de/de/p/theater-buehne/theater/kalter-weisser-mann-komoedie-7429840622473724488.html
LOCATION:Neue Gebläsehalle
GEO:49.346532;7.171860
URL:https://eventfrog.de/de/p/theater-buehne/theater/kalter-weisser-mann-komoedie-7429840622473724488.html
END:VEVENT
END:VCALENDAR