BEGIN:VCALENDAR
VERSION:2.0
PRODID:EVENTFROG//EVENT//ICAL
BEGIN:VEVENT
UID:20260422T161452Z-7429975451550921942@eventfrog.de
DTSTAMP:20260422T161452Z
DTSTART:20260711T080000Z
DTEND:20260711T170000Z
SUMMARY:Bierwanderung Erlenbach
DESCRIPTION:Am 11. Juli 2026 lädt die 5 km lange Bierwanderung in Erlenbach im Simmental zu Erlebnis und Genuss an sechs Stationen ein.\n\nhttps://eventfrog.de/de/p/essen-trinken/bierwanderung-erlenbach-7429975451550921942.html
LOCATION:Bierwanderung Erlenbach
GEO:46.659211;7.553663
URL:https://eventfrog.de/de/p/essen-trinken/bierwanderung-erlenbach-7429975451550921942.html
END:VEVENT
END:VCALENDAR