BEGIN:VCALENDAR
VERSION:2.0
PRODID:EVENTFROG//EVENT//ICAL
BEGIN:VEVENT
UID:20260420T094710Z-7430628514171197840@eventfrog.de
DTSTAMP:20260420T094710Z
DTSTART:20260426T150000Z
DTEND:20260426T180000Z
SUMMARY:CastleClassics: Erster Konzertabend 2026
DESCRIPTION:CastleClassics: Erster Konzertabend 2026 mit "Ohne Haydn kein Brahms" und "Chansons françaises et internationales"\n\nhttps://eventfrog.de/de/p/klassik-opern/klassik/castleclassics-erster-konzertabend-2026-7430628514171197840.html
LOCATION:HPZ Hohenrain
GEO:47.179353;8.318069
URL:https://eventfrog.de/de/p/klassik-opern/klassik/castleclassics-erster-konzertabend-2026-7430628514171197840.html
END:VEVENT
END:VCALENDAR