BEGIN:VCALENDAR
VERSION:2.0
PRODID:EVENTFROG//EVENT//ICAL
BEGIN:VEVENT
UID:20260424T021944Z-7431410295258484332@eventfrog.de
DTSTAMP:20260424T021944Z
DTSTART:20260425T160000Z
DTEND:20260425T200000Z
SUMMARY:SPARGEL deluxe - großes Spargelbuffet & offene Weinbar
DESCRIPTION:Am 25. April ab 18 Uhr bietet wk culinaria und Delikatessen Haupt ein exklusives Spargelbuffet mit feinen Variationen und offener Weinbar in der Service Residenz Schloss Bensberg.\n\nhttps://eventfrog.de/de/p/essen-trinken/spargel-deluxe-grosses-spargelbuffet-offene-weinbar-7431410295258484332.html
LOCATION:Service Residenz Schloss Bensberg
GEO:50.968021;7.164087
URL:https://eventfrog.de/de/p/essen-trinken/spargel-deluxe-grosses-spargelbuffet-offene-weinbar-7431410295258484332.html
END:VEVENT
END:VCALENDAR