BEGIN:VCALENDAR
VERSION:2.0
PRODID:EVENTFROG//EVENT//ICAL
BEGIN:VEVENT
UID:20260425T155843Z-7431657452775450604@eventfrog.de
DTSTAMP:20260425T155843Z
DTSTART:20260426T120000Z
SUMMARY:Englische Tea Time mit Petits
DESCRIPTION:Britische Teekultur, fein serviert - ein Nachmittag auf englische Art. \n\nhttps://eventfrog.de/de/p/essen-trinken/englische-tea-time-mit-petits-7431657452775450604.html
LOCATION:Van der Valk Golfhotel Serrahn
GEO:53.654357;12.344555
URL:https://eventfrog.de/de/p/essen-trinken/englische-tea-time-mit-petits-7431657452775450604.html
END:VEVENT
END:VCALENDAR