BEGIN:VCALENDAR
VERSION:2.0
PRODID:EVENTFROG//EVENT//ICAL
BEGIN:VEVENT
UID:20260420T192436Z-7432524484941247872@eventfrog.de
DTSTAMP:20260420T192436Z
DTSTART:20260418T110000Z
DTEND:20260418T143000Z
SUMMARY:Beauty Jungle Mädchenflohmarkt Neusäß
DESCRIPTION:Am 18.04.2026 findet in der Stadthalle Neusäß ein Fashion-Flohmarkt mit nachhaltiger Secondhand-Mode, Accessoires und Trendteilen statt.\n\nhttps://eventfrog.de/de/p/maerkte/flohmarkt/beauty-jungle-maedchenflohmarkt-neusaess-7432524484941247872.html
LOCATION:Stadthalle Neusäß
GEO:48.393435;10.835046
URL:https://eventfrog.de/de/p/maerkte/flohmarkt/beauty-jungle-maedchenflohmarkt-neusaess-7432524484941247872.html
END:VEVENT
END:VCALENDAR