BEGIN:VCALENDAR
VERSION:2.0
PRODID:EVENTFROG//EVENT//ICAL
BEGIN:VEVENT
UID:20260420T160146Z-7433881848139225013@eventfrog.de
DTSTAMP:20260420T160146Z
DTSTART:20270227T180000Z
DTEND:20270227T220000Z
SUMMARY:Musical Dinner (Das Original) Kisdorf
DESCRIPTION:MUSICAL DINNER (Das Original)\nNorddeutschlands erfolgreichste Dinner Show - noch nie war Musical so nah!\n\n\n\nhttps://eventfrog.de/de/p/musicals-shows/musical/musical-dinner-das-original-kisdorf-7433881848139225013.html
LOCATION:Restaurant Pellegrini im Margarethenhoff
GEO:53.810369;10.009541
URL:https://eventfrog.de/de/p/musicals-shows/musical/musical-dinner-das-original-kisdorf-7433881848139225013.html
END:VEVENT
END:VCALENDAR