BEGIN:VCALENDAR
VERSION:2.0
PRODID:EVENTFROG//EVENT//ICAL
BEGIN:VEVENT
UID:20260425T232034Z-7433902546366796313@eventfrog.de
DTSTAMP:20260425T232034Z
DTSTART:20261122T130000Z
DTEND:20261122T144000Z
SUMMARY:WOW! - Profesora & Professor Bummbastic
DESCRIPTION:«WOW!» von Profesora und Professor Bummbastic ist eine mitreissende Wissenschaftsshow für Familien ab 5 Jahren mit spannenden Experimenten.\n\nhttps://eventfrog.de/de/p/kinderveranstaltungen/familienveranstaltungen/wow-profesora-professor-bummbastic-7433902546366796313.html
LOCATION:Titthof, Chur
GEO:46.855320;9.528690
URL:https://eventfrog.de/de/p/kinderveranstaltungen/familienveranstaltungen/wow-profesora-professor-bummbastic-7433902546366796313.html
END:VEVENT
END:VCALENDAR