BEGIN:VCALENDAR
VERSION:2.0
PRODID:EVENTFROG//EVENT//ICAL
BEGIN:VEVENT
UID:20260425T104835Z-7433929490105918675@eventfrog.de
DTSTAMP:20260425T104835Z
DTSTART:20261213T130000Z
DTEND:20261213T144000Z
SUMMARY:WOW! - Profesora & Professor Bummbastic
DESCRIPTION:«WOW!» von Profesora und Professor Bummbastic ist eine mitreissende Wissenschaftsshow für Familien ab 5 Jahren mit spannenden Experimenten.\n\nhttps://eventfrog.de/de/p/kinderveranstaltungen/familienveranstaltungen/wow-profesora-professor-bummbastic-7433929490105918675.html
LOCATION:Parktheater, Grenchen
GEO:47.191718;7.391284
URL:https://eventfrog.de/de/p/kinderveranstaltungen/familienveranstaltungen/wow-profesora-professor-bummbastic-7433929490105918675.html
END:VEVENT
END:VCALENDAR