BEGIN:VCALENDAR
VERSION:2.0
PRODID:EVENTFROG//EVENT//ICAL
BEGIN:VEVENT
UID:20260424T083451Z-7434166206599268434@eventfrog.de
DTSTAMP:20260424T083451Z
DTSTART:20260521T153000Z
DTEND:20260522T010000Z
SUMMARY:NUIT DU VOLLEY !!!
DESCRIPTION:Soirée Tournoi de volley + fête, food truck KLM afrofusion et navettes disponibles.\n\nhttps://eventfrog.de/fr/p/soirees-fetes/soiree-a-theme/nuit-du-volley-7434166206599268434.html
LOCATION:Salle polyvalente de Conthey
GEO:46.216515;7.296859
URL:https://eventfrog.de/fr/p/soirees-fetes/soiree-a-theme/nuit-du-volley-7434166206599268434.html
END:VEVENT
END:VCALENDAR