BEGIN:VCALENDAR
VERSION:2.0
PRODID:EVENTFROG//EVENT//ICAL
BEGIN:VEVENT
UID:20260421T164309Z-7435018610488165751@eventfrog.de
DTSTAMP:20260421T164309Z
DTSTART:20260517T100000Z
DTEND:20260517T160000Z
SUMMARY:JULIAN THOME
DESCRIPTION:Julian Thome kommt zum Rheinradeln 2026 nach Osthofen!\n\nhttps://eventfrog.de/de/p/konzerte/pop-rock/julian-thome-7435018610488165751.html
LOCATION:Landhotel Zum Schwanen
GEO:49.703645;8.321906
URL:https://eventfrog.de/de/p/konzerte/pop-rock/julian-thome-7435018610488165751.html
END:VEVENT
END:VCALENDAR