BEGIN:VCALENDAR
VERSION:2.0
PRODID:EVENTFROG//EVENT//ICAL
BEGIN:VEVENT
UID:20260425T135544Z-7435431300939438299@eventfrog.de
DTSTAMP:20260425T135544Z
DTSTART:20260425T110000Z
DTEND:20260425T143000Z
SUMMARY:Beauty Jungle Mädchenflohmarkt Bruchsal
DESCRIPTION:Am 25. April 2026 findet im Bürgerzentrum Bruchsal der Beauty Jungle Mädchenflohmarkt mit nachhaltiger Secondhand-Mode statt.\n\nhttps://eventfrog.de/de/p/maerkte/flohmarkt/beauty-jungle-maedchenflohmarkt-bruchsal-7435431300939438299.html
LOCATION:Bürgerzentrum Bruchsal
GEO:49.124395;8.599381
URL:https://eventfrog.de/de/p/maerkte/flohmarkt/beauty-jungle-maedchenflohmarkt-bruchsal-7435431300939438299.html
END:VEVENT
END:VCALENDAR