BEGIN:VCALENDAR
VERSION:2.0
PRODID:EVENTFROG//EVENT//ICAL
BEGIN:VEVENT
UID:20260421T015347Z-7435582501391731122@eventfrog.de
DTSTAMP:20260421T015347Z
DTSTART:20260423T160000Z
DTEND:20260423T173000Z
SUMMARY:Fantasie- und Klangreise
DESCRIPTION:Tauche ein in eine Welt aus Klang, Fantasie und innerer Weite und lass dich entführen auf eine Fantasie- und Klangreise.\n\nhttps://eventfrog.de/de/p/gesundheit-spiritualitaet/gesundheit-wohlbefinden/fantasie-und-klangreise-7435582501391731122.html
LOCATION:Rapunzel Welt
GEO:47.859855;10.131916
URL:https://eventfrog.de/de/p/gesundheit-spiritualitaet/gesundheit-wohlbefinden/fantasie-und-klangreise-7435582501391731122.html
END:VEVENT
END:VCALENDAR