BEGIN:VCALENDAR
VERSION:2.0
PRODID:EVENTFROG//EVENT//ICAL
BEGIN:VEVENT
UID:20260421T101742Z-7435613719701290390@eventfrog.de
DTSTAMP:20260421T101742Z
DTSTART:20260423T173000Z
SUMMARY:Josef Hader
DESCRIPTION:«Hader on Ice» präsentiert satirisch den Klimawandel und Alltagsfrust in gewohnt lakonischem Stil und österreichischem Dialekt.\n\nhttps://eventfrog.de/de/p/theater-buehne/comedy-kabarett/josef-hader-7435613719701290390.html
LOCATION:Stadthalle Germering
GEO:48.130808;11.366915
URL:https://eventfrog.de/de/p/theater-buehne/comedy-kabarett/josef-hader-7435613719701290390.html
END:VEVENT
END:VCALENDAR