BEGIN:VCALENDAR
VERSION:2.0
PRODID:EVENTFROG//EVENT//ICAL
BEGIN:VEVENT
UID:20260425T222819Z-7436246015819152222@eventfrog.de
DTSTAMP:20260425T222819Z
DTSTART:20260425T180000Z
SUMMARY:Trio Aurea Konzert
DESCRIPTION:Trio Aurea Konzert mit Werken von Ludwig van Beethoven, Dora Pejačević und Gabriel Fauré\n\nhttps://eventfrog.de/de/p/konzerte/weitere-musikrichtungen/trio-aurea-konzert-7436246015819152222.html
LOCATION:Konzert Trio Aurea
GEO:51.729245;10.617433
URL:https://eventfrog.de/de/p/konzerte/weitere-musikrichtungen/trio-aurea-konzert-7436246015819152222.html
END:VEVENT
END:VCALENDAR