BEGIN:VCALENDAR
VERSION:2.0
PRODID:EVENTFROG//EVENT//ICAL
BEGIN:VEVENT
UID:20260425T040544Z-7436680578802421266@eventfrog.de
DTSTAMP:20260425T040544Z
DTSTART:20260430T064500Z
DTEND:20260430T141500Z
SUMMARY:Einzelberatung für Freie Berufe in Lahr
DESCRIPTION:Kostenlose Einzelberatung für angehende Freiberufler am südlichen Oberrhein, mit Fokus auf individuelle Fragen und Unterlagensichtung. Anmeldung erforderlich.\n\nhttps://eventfrog.de/de/p/diverses/einzelberatung-fuer-freie-berufe-in-lahr-7436680578802421266.html
LOCATION:IHK Südlicher Oberrhein Lahr
GEO:48.339135;7.865249
URL:https://eventfrog.de/de/p/diverses/einzelberatung-fuer-freie-berufe-in-lahr-7436680578802421266.html
END:VEVENT
END:VCALENDAR