BEGIN:VCALENDAR
VERSION:2.0
PRODID:EVENTFROG//EVENT//ICAL
BEGIN:VEVENT
UID:20260420T080213Z-7437872393769485177@eventfrog.de
DTSTAMP:20260420T080213Z
DTSTART:20260424T180000Z
DTEND:20260424T200000Z
SUMMARY:Der Urknall und die Gottesfrage
DESCRIPTION:Der Vortrag «Der Urknall und die Gottesfrage» erläutert den Ursprung des Universums von Atomen bis zu kosmischen Weiten.\n\nhttps://eventfrog.de/de/p/fuehrungen-vortraege/vortrag/der-urknall-und-die-gottesfrage-7437872393769485177.html
LOCATION:VIA Esslingen
GEO:48.730501;9.328407
URL:https://eventfrog.de/de/p/fuehrungen-vortraege/vortrag/der-urknall-und-die-gottesfrage-7437872393769485177.html
END:VEVENT
END:VCALENDAR