BEGIN:VCALENDAR
VERSION:2.0
PRODID:EVENTFROG//EVENT//ICAL
BEGIN:VEVENT
UID:20260424T083452Z-7438529777516963194@eventfrog.de
DTSTAMP:20260424T083452Z
DTSTART:20260425T080000Z
DTEND:20260425T150000Z
SUMMARY:Das Museum stellt sich vor am Naturpark Märet 2026
DESCRIPTION:Museum auf dem Markt\n\nhttps://eventfrog.de/de/p/kunst-ausstellungen/ausstellung/das-museum-stellt-sich-vor-am-naturpark-maeret-2026-7438529777516963194.html
LOCATION:Museum HAARUNDKAMM
GEO:47.338085;7.705286
URL:https://eventfrog.de/de/p/kunst-ausstellungen/ausstellung/das-museum-stellt-sich-vor-am-naturpark-maeret-2026-7438529777516963194.html
END:VEVENT
END:VCALENDAR