BEGIN:VCALENDAR
VERSION:2.0
PRODID:EVENTFROG//EVENT//ICAL
BEGIN:VEVENT
UID:20260419T232831Z-7438722041224663935@eventfrog.de
DTSTAMP:20260419T232831Z
DTSTART:20260423T180000Z
SUMMARY:The Effect feat. Henrik Linder
DESCRIPTION:Powertrio auf Klangforschung.\n\nhttps://eventfrog.de/de/p/konzerte/the-effect-feat-henrik-linder-7438722041224663935.html
LOCATION:Zehntscheuer Ravensburg
GEO:47.784464;9.612142
URL:https://eventfrog.de/de/p/konzerte/the-effect-feat-henrik-linder-7438722041224663935.html
END:VEVENT
END:VCALENDAR