BEGIN:VCALENDAR
VERSION:2.0
PRODID:EVENTFROG//EVENT//ICAL
BEGIN:VEVENT
UID:20260425T195309Z-7438930892960085598@eventfrog.de
DTSTAMP:20260425T195309Z
DTSTART:20260828T180000Z
DTEND:20260828T200000Z
SUMMARY:Gilbert & Oleg's Fahrieté
DESCRIPTION:Gilbert & Oleg präsentieren ihr neues Stück\n„Lehrgang für Hofnarren“.\nTheater, Magie, Musik & viel Humor!\n\nhttps://eventfrog.de/de/p/theater-buehne/theater/gilbert-oleg-s-fahriete-7438930892960085598.html
LOCATION:Viehmarktplatz
GEO:46.940729;7.785500
URL:https://eventfrog.de/de/p/theater-buehne/theater/gilbert-oleg-s-fahriete-7438930892960085598.html
END:VEVENT
END:VCALENDAR